BEGIN:VCALENDAR
VERSION:2.0
PRODID:-//Legacy Humane Society - ECPv6.15.20//NONSGML v1.0//EN
CALSCALE:GREGORIAN
METHOD:PUBLISH
X-ORIGINAL-URL:https://legacyhumanesociety.org
X-WR-CALDESC:Events for Legacy Humane Society
REFRESH-INTERVAL;VALUE=DURATION:PT1H
X-Robots-Tag:noindex
X-PUBLISHED-TTL:PT1H
BEGIN:VTIMEZONE
TZID:America/Chicago
BEGIN:DAYLIGHT
TZOFFSETFROM:-0600
TZOFFSETTO:-0500
TZNAME:CDT
DTSTART:20250309T080000
END:DAYLIGHT
BEGIN:STANDARD
TZOFFSETFROM:-0500
TZOFFSETTO:-0600
TZNAME:CST
DTSTART:20251102T070000
END:STANDARD
BEGIN:DAYLIGHT
TZOFFSETFROM:-0600
TZOFFSETTO:-0500
TZNAME:CDT
DTSTART:20260308T080000
END:DAYLIGHT
BEGIN:STANDARD
TZOFFSETFROM:-0500
TZOFFSETTO:-0600
TZNAME:CST
DTSTART:20261101T070000
END:STANDARD
BEGIN:DAYLIGHT
TZOFFSETFROM:-0600
TZOFFSETTO:-0500
TZNAME:CDT
DTSTART:20270314T080000
END:DAYLIGHT
BEGIN:STANDARD
TZOFFSETFROM:-0500
TZOFFSETTO:-0600
TZNAME:CST
DTSTART:20271107T070000
END:STANDARD
END:VTIMEZONE
BEGIN:VEVENT
DTSTART;TZID=America/Chicago:20260131T110000
DTEND;TZID=America/Chicago:20260131T160000
DTSTAMP:20260420T041500
CREATED:20260120T151806Z
LAST-MODIFIED:20260120T151806Z
UID:15618-1769857200-1769875200@legacyhumanesociety.org
SUMMARY:Petco Adoption Event
DESCRIPTION:Come visit us at the Petco in Allen to meet with Legacy Humane Society’s dogs looking for their forever home to call their own. 816 W McDermott Dr\, Ste 308\, Allen\, TX 75013
URL:https://legacyhumanesociety.org/lhs-event/petco-adoption-event-57/
LOCATION:Petco Allen\, 816 W Mcdermott Dr\, Allen\, 75024\, United States
END:VEVENT
END:VCALENDAR